BEGIN:VCALENDAR
VERSION:2.0
PRODID:-//116.203.2.9//NONSGML kigkonsult.se iCalcreator 2.20//
CALSCALE:GREGORIAN
METHOD:PUBLISH
X-WR-TIMEZONE:UTC
BEGIN:VEVENT
UID:event261@TSG Backnang 1846 Turn- und Sportabteilungen e.V. - Abteilung 
 Turnen
DTSTAMP:20260421T102121Z
CATEGORIES:Wettkampfsport allg.
DESCRIPTION:MiniCup 2023\nKategorie: Wettkampfsport allg.\nICS-Link: https:
 //tsg-turnen.kutu.de/index.php?option=com_jem&view=event&id=261:minicup-20
 23\n
DTSTART;VALUE=DATE:20230212
DTEND;VALUE=DATE:20230213
LOCATION:Katharinenplaisir Sporthalle\,Berliner Ring 16\,71522 Backnang
SUMMARY:MiniCup 2023
URL:https://tsg-turnen.kutu.de/index.php?option=com_jem&view=event&id=261:m
 inicup-2023
END:VEVENT
END:VCALENDAR
